BEGIN:VCALENDAR
VERSION:2.0
PRODID:KKTIX
CALSCALE:GREGORIAN
METHOD:PUBLISH
BEGIN:VTIMEZONE
TZID:Asia/Taipei
END:VTIMEZONE
BEGIN:VEVENT
DTSTAMP:20260425T180352Z
UID:7e2555cf-da8c-4394-bf76-42d03e13cd14
DTSTART:20150529T020000Z
DTEND:20150529T024000Z
CLASS:PUBLIC
DESCRIPTION:https://paasr3.kktix.cc/events/r3c5-1-0529
LOCATION:網路教室
SUMMARY: Oracle 的雲端平台服務-PaaS系列課程五之一 : 開始使
 用Oracle Document Cloud Service 文件雲端服務平台
END:VEVENT
END:VCALENDAR
