BEGIN:VCALENDAR
VERSION:2.0
PRODID:KKTIX
CALSCALE:GREGORIAN
METHOD:PUBLISH
BEGIN:VTIMEZONE
TZID:Asia/Taipei
END:VTIMEZONE
BEGIN:VEVENT
DTSTAMP:20260425T180246Z
UID:a55918a9-f77a-4124-85ba-1473d7de49cb
DTSTART:20150528T020000Z
DTEND:20150528T024000Z
CLASS:PUBLIC
DESCRIPTION:https://paasr3.kktix.cc/events/r3c4-2-0528
LOCATION:網路教室
SUMMARY: Oracle 的雲端平台服務-PaaS系列課程四之二 : 如何企
 業資料移轉及Oracle APEX開發工具介紹及應用 
END:VEVENT
END:VCALENDAR
