BEGIN:VCALENDAR
VERSION:2.0
PRODID:KKTIX
CALSCALE:GREGORIAN
METHOD:PUBLISH
BEGIN:VTIMEZONE
TZID:Asia/Taipei
END:VTIMEZONE
BEGIN:VEVENT
DTSTAMP:20260425T180352Z
UID:acf3567f-b104-47d5-b057-6291d5a24363
DTSTART:20150522T020000Z
DTEND:20150522T024000Z
CLASS:PUBLIC
DESCRIPTION:https://paasr3.kktix.cc/events/r3c4-1-0522
LOCATION:網路教室
SUMMARY: Oracle 的雲端平台服務-PaaS系列課程四之一 : 利用 Or
 acle Document Cloud Service 文件雲端服務平台進行協同合作
END:VEVENT
END:VCALENDAR
