BEGIN:VCALENDAR
VERSION:2.0
PRODID:KKTIX
CALSCALE:GREGORIAN
METHOD:PUBLISH
BEGIN:VTIMEZONE
TZID:Asia/Taipei
END:VTIMEZONE
BEGIN:VEVENT
DTSTAMP:20260425T180226Z
UID:eb2d0a71-d87f-4724-b48d-93cdb6e2405a
DTSTART:20150515T020000Z
DTEND:20150515T024000Z
CLASS:PUBLIC
DESCRIPTION:https://paasr3.kktix.cc/events/r3c3-0515
LOCATION:網路教室
SUMMARY: Oracle 的雲端平台服務-PaaS系列課程三 : 如何管理您
 的Oracle JCS & DCS雲端服務平台
END:VEVENT
END:VCALENDAR
