BEGIN:VCALENDAR
VERSION:2.0
PRODID:KKTIX
CALSCALE:GREGORIAN
METHOD:PUBLISH
BEGIN:VTIMEZONE
TZID:Asia/Taipei
END:VTIMEZONE
BEGIN:VEVENT
DTSTAMP:20260425T181202Z
UID:140e14d0-ed3c-4588-9196-ecb0bbea12c9
DTSTART:20150508T020000Z
DTEND:20150508T024000Z
CLASS:PUBLIC
DESCRIPTION:https://paasr3.kktix.cc/events/r3c2-0508
LOCATION:網路教室
SUMMARY: Oracle 的雲端平台服務-PaaaS系列課程二 : 開始建置
 您專屬的Oracle Platform as a Service雲端平台
END:VEVENT
END:VCALENDAR
